Package: multtest Version: 2.62.0 Command: /Library/Frameworks/R.framework/Resources/bin/R CMD check --install=check:multtest.install-out.txt --library=/Library/Frameworks/R.framework/Resources/library --no-vignettes --timings multtest_2.62.0.tar.gz StartedAt: 2025-02-01 02:45:17 -0500 (Sat, 01 Feb 2025) EndedAt: 2025-02-01 02:46:38 -0500 (Sat, 01 Feb 2025) EllapsedTime: 80.2 seconds RetCode: 0 Status: WARNINGS CheckDir: multtest.Rcheck Warnings: 4