Package: multtest Version: 2.62.0 Command: rm -rf multtest.buildbin-libdir && mkdir multtest.buildbin-libdir && /Users/biocbuild/BBS/utils/build-universal.sh multtest_2.62.0.tar.gz /Library/Frameworks/R.framework/Resources/bin/R multtest.buildbin-libdir StartedAt: 2024-11-20 04:39:18 -0500 (Wed, 20 Nov 2024) EndedAt: 2024-11-20 04:39:44 -0500 (Wed, 20 Nov 2024) EllapsedTime: 26.1 seconds RetCode: 0 Status: OK PackageFile: multtest_2.62.0.tgz PackageFileSize: 830.2 KiB