Package: multtest Version: 2.62.0 Command: /Library/Frameworks/R.framework/Resources/bin/R CMD INSTALL multtest StartedAt: 2025-01-30 16:21:31 -0500 (Thu, 30 Jan 2025) EndedAt: 2025-01-30 16:22:02 -0500 (Thu, 30 Jan 2025) EllapsedTime: 30.7 seconds RetCode: 0 Status: OK