Package: multtest Version: 2.62.0 Command: /home/biocbuild/bbs-3.20-bioc/R/bin/R CMD check --install=check:multtest.install-out.txt --library=/home/biocbuild/bbs-3.20-bioc/R/site-library --timings multtest_2.62.0.tar.gz StartedAt: 2025-02-04 00:35:22 -0500 (Tue, 04 Feb 2025) EndedAt: 2025-02-04 00:36:24 -0500 (Tue, 04 Feb 2025) EllapsedTime: 62.1 seconds RetCode: 0 Status: WARNINGS CheckDir: multtest.Rcheck Warnings: 3