Package: multtest Version: 2.62.0 Command: rm -rf multtest.buildbin-libdir && mkdir multtest.buildbin-libdir && F:\biocbuild\bbs-3.20-bioc\R\bin\R.exe CMD INSTALL --build --library=multtest.buildbin-libdir multtest_2.62.0.tar.gz StartedAt: 2025-02-04 09:01:53 -0500 (Tue, 04 Feb 2025) EndedAt: 2025-02-04 09:02:26 -0500 (Tue, 04 Feb 2025) EllapsedTime: 33.2 seconds RetCode: 0 Status: OK PackageFile: multtest_2.62.0.zip PackageFileSize: 834.2 KiB