Package: multtest Version: 2.62.0 Command: chmod a+r multtest -R && F:\biocbuild\bbs-3.20-bioc\R\bin\R.exe CMD build --keep-empty-dirs --no-resave-data multtest StartedAt: 2025-02-10 20:36:47 -0500 (Mon, 10 Feb 2025) EndedAt: 2025-02-10 20:36:52 -0500 (Mon, 10 Feb 2025) EllapsedTime: 5.0 seconds RetCode: 0 Status: OK PackageFile: multtest_2.62.0.tar.gz PackageFileSize: 1.234 MiB