Package: multtest Version: 2.62.0 Command: F:\biocbuild\bbs-3.20-bioc\R\bin\R.exe CMD check --no-multiarch --install=check:multtest.install-out.txt --library=F:\biocbuild\bbs-3.20-bioc\R\library --no-vignettes --timings multtest_2.62.0.tar.gz StartedAt: 2025-02-11 04:09:00 -0500 (Tue, 11 Feb 2025) EndedAt: 2025-02-11 04:10:33 -0500 (Tue, 11 Feb 2025) EllapsedTime: 93.7 seconds RetCode: 0 Status: WARNINGS CheckDir: multtest.Rcheck Warnings: 2