Package: multtest Version: 2.62.0 Command: /home/biocbuild/R/R/bin/R CMD build --keep-empty-dirs --no-resave-data multtest StartedAt: 2025-02-04 01:18:29 -0000 (Tue, 04 Feb 2025) EndedAt: 2025-02-04 01:18:31 -0000 (Tue, 04 Feb 2025) EllapsedTime: 2.0 seconds RetCode: 0 Status: OK PackageFile: multtest_2.62.0.tar.gz PackageFileSize: 1.235 MiB