Package: multtest Version: 2.62.0 Command: /home/biocbuild/R/R/bin/R CMD check --install=check:multtest.install-out.txt --library=/home/biocbuild/R/R/site-library --no-vignettes --timings multtest_2.62.0.tar.gz StartedAt: 2025-01-31 08:32:53 -0000 (Fri, 31 Jan 2025) EndedAt: 2025-01-31 08:34:18 -0000 (Fri, 31 Jan 2025) EllapsedTime: 85.1 seconds RetCode: 0 Status: WARNINGS CheckDir: multtest.Rcheck Warnings: 3