Package: multtest Version: 2.62.0 Command: /home/biocbuild/R/R/bin/R CMD INSTALL multtest StartedAt: 2025-01-30 20:53:47 -0000 (Thu, 30 Jan 2025) EndedAt: 2025-01-30 20:54:03 -0000 (Thu, 30 Jan 2025) EllapsedTime: 15.6 seconds RetCode: 0 Status: OK