Package: mumosa Version: 1.14.0 Command: /Library/Frameworks/R.framework/Resources/bin/R CMD build --keep-empty-dirs --no-resave-data mumosa StartedAt: 2025-01-31 04:15:13 -0500 (Fri, 31 Jan 2025) EndedAt: 2025-01-31 04:17:25 -0500 (Fri, 31 Jan 2025) EllapsedTime: 131.7 seconds RetCode: 0 Status: OK PackageFile: mumosa_1.14.0.tar.gz PackageFileSize: 675.6 KiB