Package: mumosa Version: 1.14.0 Command: /Library/Frameworks/R.framework/Resources/bin/R CMD INSTALL mumosa StartedAt: 2025-01-30 17:54:14 -0500 (Thu, 30 Jan 2025) EndedAt: 2025-01-30 17:54:48 -0500 (Thu, 30 Jan 2025) EllapsedTime: 33.7 seconds RetCode: 0 Status: OK