Package: mumosa Version: 1.14.0 Command: rm -rf mumosa.buildbin-libdir && mkdir mumosa.buildbin-libdir && /Users/biocbuild/BBS/utils/build-universal.sh mumosa_1.14.0.tar.gz /Library/Frameworks/R.framework/Resources/bin/R mumosa.buildbin-libdir StartedAt: 2025-02-04 13:35:27 -0500 (Tue, 04 Feb 2025) EndedAt: 2025-02-04 13:37:08 -0500 (Tue, 04 Feb 2025) EllapsedTime: 101.0 seconds RetCode: 0 Status: OK PackageFile: mumosa_1.14.0.tgz PackageFileSize: 731 KiB