Package: mumosa Version: 1.14.0 Command: /home/biocbuild/R/R/bin/R CMD build --keep-empty-dirs --no-resave-data mumosa StartedAt: 2025-02-04 01:18:31 -0000 (Tue, 04 Feb 2025) EndedAt: 2025-02-04 01:20:59 -0000 (Tue, 04 Feb 2025) EllapsedTime: 148.1 seconds RetCode: 0 Status: OK PackageFile: mumosa_1.14.0.tar.gz PackageFileSize: 502.2 KiB