Package: muscle Version: 3.48.0 Command: /Library/Frameworks/R.framework/Resources/bin/R CMD build --keep-empty-dirs --no-resave-data muscle StartedAt: 2025-02-03 20:46:09 -0500 (Mon, 03 Feb 2025) EndedAt: 2025-02-03 20:48:15 -0500 (Mon, 03 Feb 2025) EllapsedTime: 126.3 seconds RetCode: 0 Status: OK PackageFile: muscle_3.48.0.tar.gz PackageFileSize: 487.8 KiB