Package: muscle Version: 3.48.0 Command: /Library/Frameworks/R.framework/Resources/bin/R CMD INSTALL muscle StartedAt: 2025-01-30 15:18:03 -0500 (Thu, 30 Jan 2025) EndedAt: 2025-01-30 15:19:45 -0500 (Thu, 30 Jan 2025) EllapsedTime: 101.5 seconds RetCode: 0 Status: OK