Package: muscle Version: 3.48.0 Command: /home/biocbuild/bbs-3.20-bioc/R/bin/R CMD build --keep-empty-dirs --no-resave-data --md5 muscle StartedAt: 2025-02-03 18:26:20 -0500 (Mon, 03 Feb 2025) EndedAt: 2025-02-03 18:27:15 -0500 (Mon, 03 Feb 2025) EllapsedTime: 55.1 seconds RetCode: 0 Status: OK PackageFile: muscle_3.48.0.tar.gz PackageFileSize: 495.3 KiB