Package: muscle Version: 3.48.0 Command: rm -rf muscle.buildbin-libdir && mkdir muscle.buildbin-libdir && F:\biocbuild\bbs-3.20-bioc\R\bin\R.exe CMD INSTALL --build --library=muscle.buildbin-libdir muscle_3.48.0.tar.gz StartedAt: 2025-01-31 09:08:48 -0500 (Fri, 31 Jan 2025) EndedAt: 2025-01-31 09:10:43 -0500 (Fri, 31 Jan 2025) EllapsedTime: 115.2 seconds RetCode: 0 Status: OK PackageFile: muscle_3.48.0.zip PackageFileSize: 361.5 KiB