Package: muscle Version: 3.48.0 Command: chmod a+r muscle -R && F:\biocbuild\bbs-3.20-bioc\R\bin\R.exe CMD build --keep-empty-dirs --no-resave-data muscle StartedAt: 2025-01-30 20:28:34 -0500 (Thu, 30 Jan 2025) EndedAt: 2025-01-30 20:30:27 -0500 (Thu, 30 Jan 2025) EllapsedTime: 113.0 seconds RetCode: 0 Status: OK PackageFile: muscle_3.48.0.tar.gz PackageFileSize: 295.2 KiB