Package: muscle Version: 3.48.0 Command: F:\biocbuild\bbs-3.20-bioc\R\bin\R.exe CMD check --no-multiarch --install=check:muscle.install-out.txt --library=F:\biocbuild\bbs-3.20-bioc\R\library --no-vignettes --timings muscle_3.48.0.tar.gz StartedAt: 2025-02-04 04:15:24 -0500 (Tue, 04 Feb 2025) EndedAt: 2025-02-04 04:17:11 -0500 (Tue, 04 Feb 2025) EllapsedTime: 106.3 seconds RetCode: 0 Status: WARNINGS CheckDir: muscle.Rcheck Warnings: 1