Package: muscle Version: 3.48.0 Command: F:\biocbuild\bbs-3.20-bioc\R\bin\R.exe CMD INSTALL muscle StartedAt: 2025-01-30 15:39:10 -0500 (Thu, 30 Jan 2025) EndedAt: 2025-01-30 15:40:56 -0500 (Thu, 30 Jan 2025) EllapsedTime: 106.3 seconds RetCode: 0 Status: OK