Package: muscle Version: 3.48.0 Command: /home/biocbuild/R/R/bin/R CMD build --keep-empty-dirs --no-resave-data muscle StartedAt: 2025-01-31 01:15:38 -0000 (Fri, 31 Jan 2025) EndedAt: 2025-01-31 01:16:55 -0000 (Fri, 31 Jan 2025) EllapsedTime: 77.0 seconds RetCode: 0 Status: OK PackageFile: muscle_3.48.0.tar.gz PackageFileSize: 479.7 KiB