Package: muscle Version: 3.48.0 Command: /home/biocbuild/R/R/bin/R CMD check --install=check:muscle.install-out.txt --library=/home/biocbuild/R/R/site-library --no-vignettes --timings muscle_3.48.0.tar.gz StartedAt: 2025-02-04 09:15:03 -0000 (Tue, 04 Feb 2025) EndedAt: 2025-02-04 09:16:25 -0000 (Tue, 04 Feb 2025) EllapsedTime: 82.1 seconds RetCode: 0 Status: WARNINGS CheckDir: muscle.Rcheck Warnings: 2