Package: muscle Version: 3.48.0 Command: /home/biocbuild/R/R/bin/R CMD INSTALL muscle StartedAt: 2025-01-30 20:15:25 -0000 (Thu, 30 Jan 2025) EndedAt: 2025-01-30 20:16:34 -0000 (Thu, 30 Jan 2025) EllapsedTime: 69.0 seconds RetCode: 0 Status: OK