Package: musicatk Version: 2.0.0 Command: rm -rf musicatk.buildbin-libdir && mkdir musicatk.buildbin-libdir && /Users/biocbuild/BBS/utils/build-universal.sh musicatk_2.0.0.tar.gz /Library/Frameworks/R.framework/Resources/bin/R musicatk.buildbin-libdir StartedAt: 2025-02-01 15:58:12 -0500 (Sat, 01 Feb 2025) EndedAt: 2025-02-01 15:59:13 -0500 (Sat, 01 Feb 2025) EllapsedTime: 61.6 seconds RetCode: 0 Status: OK PackageFile: musicatk_2.0.0.tgz PackageFileSize: 4.098 MiB