Package: musicatk Version: 2.0.0 Command: /Library/Frameworks/R.framework/Resources/bin/R CMD build --keep-empty-dirs --no-resave-data musicatk StartedAt: 2025-01-31 04:18:44 -0500 (Fri, 31 Jan 2025) EndedAt: 2025-01-31 04:24:57 -0500 (Fri, 31 Jan 2025) EllapsedTime: 373.6 seconds RetCode: 0 Status: OK PackageFile: musicatk_2.0.0.tar.gz PackageFileSize: 3.12 MiB