Package: musicatk Version: 2.0.0 Command: /Library/Frameworks/R.framework/Resources/bin/R CMD check --install=check:musicatk.install-out.txt --library=/Library/Frameworks/R.framework/Resources/library --no-vignettes --timings musicatk_2.0.0.tar.gz StartedAt: 2025-02-01 02:52:10 -0500 (Sat, 01 Feb 2025) EndedAt: 2025-02-01 03:06:16 -0500 (Sat, 01 Feb 2025) EllapsedTime: 845.7 seconds RetCode: 0 Status: OK CheckDir: musicatk.Rcheck Warnings: 0