Package: musicatk Version: 2.0.0 Command: /Library/Frameworks/R.framework/Resources/bin/R CMD INSTALL musicatk StartedAt: 2025-01-30 18:24:20 -0500 (Thu, 30 Jan 2025) EndedAt: 2025-01-30 18:25:14 -0500 (Thu, 30 Jan 2025) EllapsedTime: 54.1 seconds RetCode: 0 Status: OK