Package: musicatk Version: 2.0.0 Command: rm -rf musicatk.buildbin-libdir && mkdir musicatk.buildbin-libdir && /Users/biocbuild/BBS/utils/build-universal.sh musicatk_2.0.0.tar.gz /Library/Frameworks/R.framework/Resources/bin/R musicatk.buildbin-libdir StartedAt: 2025-02-04 13:35:47 -0500 (Tue, 04 Feb 2025) EndedAt: 2025-02-04 13:38:20 -0500 (Tue, 04 Feb 2025) EllapsedTime: 153.9 seconds RetCode: 0 Status: OK PackageFile: musicatk_2.0.0.tgz PackageFileSize: 4.089 MiB