Package: musicatk Version: 2.0.0 Command: /Library/Frameworks/R.framework/Resources/bin/R CMD build --keep-empty-dirs --no-resave-data musicatk StartedAt: 2025-02-03 20:46:21 -0500 (Mon, 03 Feb 2025) EndedAt: 2025-02-03 20:58:18 -0500 (Mon, 03 Feb 2025) EllapsedTime: 716.9 seconds RetCode: 0 Status: OK PackageFile: musicatk_2.0.0.tar.gz PackageFileSize: 3.113 MiB