Package: musicatk Version: 2.0.0 Command: rm -rf musicatk.buildbin-libdir && mkdir musicatk.buildbin-libdir && F:\biocbuild\bbs-3.20-bioc\R\bin\R.exe CMD INSTALL --build --library=musicatk.buildbin-libdir musicatk_2.0.0.tar.gz StartedAt: 2025-02-04 09:02:08 -0500 (Tue, 04 Feb 2025) EndedAt: 2025-02-04 09:03:46 -0500 (Tue, 04 Feb 2025) EllapsedTime: 97.9 seconds RetCode: 0 Status: OK PackageFile: musicatk_2.0.0.zip PackageFileSize: 3.651 MiB