Package: musicatk Version: 2.0.0 Command: chmod a+r musicatk -R && F:\biocbuild\bbs-3.20-bioc\R\bin\R.exe CMD build --keep-empty-dirs --no-resave-data musicatk StartedAt: 2025-02-03 20:43:10 -0500 (Mon, 03 Feb 2025) EndedAt: 2025-02-03 20:49:53 -0500 (Mon, 03 Feb 2025) EllapsedTime: 403.5 seconds RetCode: 0 Status: OK PackageFile: musicatk_2.0.0.tar.gz PackageFileSize: 2.686 MiB