Package: musicatk Version: 2.0.0 Command: F:\biocbuild\bbs-3.20-bioc\R\bin\R.exe CMD INSTALL musicatk StartedAt: 2025-02-03 17:13:55 -0500 (Mon, 03 Feb 2025) EndedAt: 2025-02-03 17:15:35 -0500 (Mon, 03 Feb 2025) EllapsedTime: 99.8 seconds RetCode: 0 Status: OK