Package: musicatk Version: 2.0.0 Command: /home/biocbuild/R/R/bin/R CMD build --keep-empty-dirs --no-resave-data musicatk StartedAt: 2025-02-04 01:19:01 -0000 (Tue, 04 Feb 2025) EndedAt: 2025-02-04 01:25:26 -0000 (Tue, 04 Feb 2025) EllapsedTime: 385.2 seconds RetCode: 0 Status: OK PackageFile: musicatk_2.0.0.tar.gz PackageFileSize: 3.231 MiB