Package: musicatk Version: 2.0.0 Command: /home/biocbuild/bbs-3.20-bioc/R/bin/R CMD INSTALL musicatk StartedAt: 2024-11-19 17:12:08 -0500 (Tue, 19 Nov 2024) EndedAt: 2024-11-19 17:12:49 -0500 (Tue, 19 Nov 2024) EllapsedTime: 40.7 seconds RetCode: 0 Status: OK