Package: ncGTW Version: 1.20.0 Command: rm -rf ncGTW.buildbin-libdir && mkdir ncGTW.buildbin-libdir && /Users/biocbuild/BBS/utils/build-universal.sh ncGTW_1.20.0.tar.gz /Library/Frameworks/R.framework/Resources/bin/R ncGTW.buildbin-libdir StartedAt: 2025-02-05 16:55:13 -0500 (Wed, 05 Feb 2025) EndedAt: 2025-02-05 16:56:31 -0500 (Wed, 05 Feb 2025) EllapsedTime: 77.6 seconds RetCode: 0 Status: OK PackageFile: ncGTW_1.20.0.tgz PackageFileSize: 2.107 MiB