Package: ncGTW Version: 1.20.0 Command: /Library/Frameworks/R.framework/Resources/bin/R CMD build --keep-empty-dirs --no-resave-data ncGTW StartedAt: 2025-02-04 04:35:41 -0500 (Tue, 04 Feb 2025) EndedAt: 2025-02-04 04:39:42 -0500 (Tue, 04 Feb 2025) EllapsedTime: 241.2 seconds RetCode: 0 Status: OK PackageFile: ncGTW_1.20.0.tar.gz PackageFileSize: 2.304 MiB