Package: ncGTW Version: 1.20.0 Command: /Library/Frameworks/R.framework/Resources/bin/R CMD build --keep-empty-dirs --no-resave-data ncGTW StartedAt: 2025-02-03 20:49:21 -0500 (Mon, 03 Feb 2025) EndedAt: 2025-02-03 20:56:51 -0500 (Mon, 03 Feb 2025) EllapsedTime: 450.1 seconds RetCode: 0 Status: OK PackageFile: ncGTW_1.20.0.tar.gz PackageFileSize: 2.304 MiB