Package: ncGTW Version: 1.20.0 Command: /home/biocbuild/bbs-3.20-bioc/R/bin/R CMD INSTALL ncGTW StartedAt: 2025-02-03 15:47:50 -0500 (Mon, 03 Feb 2025) EndedAt: 2025-02-03 15:48:58 -0500 (Mon, 03 Feb 2025) EllapsedTime: 67.6 seconds RetCode: 0 Status: OK