Package: ncGTW Version: 1.20.0 Command: F:\biocbuild\bbs-3.20-bioc\R\bin\R.exe CMD INSTALL ncGTW StartedAt: 2025-02-03 17:11:43 -0500 (Mon, 03 Feb 2025) EndedAt: 2025-02-03 17:13:05 -0500 (Mon, 03 Feb 2025) EllapsedTime: 81.2 seconds RetCode: 0 Status: OK