Package: ncRNAtools Version: 1.16.0 Command: /Library/Frameworks/R.framework/Resources/bin/R CMD check --install=check:ncRNAtools.install-out.txt --library=/Library/Frameworks/R.framework/Resources/library --no-vignettes --timings ncRNAtools_1.16.0.tar.gz StartedAt: 2025-02-05 03:46:53 -0500 (Wed, 05 Feb 2025) EndedAt: 2025-02-05 03:49:17 -0500 (Wed, 05 Feb 2025) EllapsedTime: 144.1 seconds RetCode: 0 Status: OK CheckDir: ncRNAtools.Rcheck Warnings: 0