Package: ncRNAtools Version: 1.16.0 Command: rm -rf ncRNAtools.buildbin-libdir && mkdir ncRNAtools.buildbin-libdir && /Users/biocbuild/BBS/utils/build-universal.sh ncRNAtools_1.16.0.tar.gz /Library/Frameworks/R.framework/Resources/bin/R ncRNAtools.buildbin-libdir StartedAt: 2025-01-31 13:16:54 -0500 (Fri, 31 Jan 2025) EndedAt: 2025-01-31 13:17:21 -0500 (Fri, 31 Jan 2025) EllapsedTime: 27.1 seconds RetCode: 0 Status: OK PackageFile: ncRNAtools_1.16.0.tgz PackageFileSize: 390.6 KiB