Package: ncRNAtools Version: 1.16.0 Command: /Library/Frameworks/R.framework/Resources/bin/R CMD check --install=check:ncRNAtools.install-out.txt --library=/Library/Frameworks/R.framework/Resources/library --no-vignettes --timings ncRNAtools_1.16.0.tar.gz StartedAt: 2025-01-31 07:14:23 -0500 (Fri, 31 Jan 2025) EndedAt: 2025-01-31 07:18:01 -0500 (Fri, 31 Jan 2025) EllapsedTime: 218.3 seconds RetCode: 0 Status: OK CheckDir: ncRNAtools.Rcheck Warnings: 0