Package: ncRNAtools Version: 1.16.0 Command: /home/biocbuild/R/R/bin/R CMD build --keep-empty-dirs --no-resave-data ncRNAtools StartedAt: 2025-02-04 01:22:17 -0000 (Tue, 04 Feb 2025) EndedAt: 2025-02-04 01:23:13 -0000 (Tue, 04 Feb 2025) EllapsedTime: 56.0 seconds RetCode: 0 Status: OK PackageFile: ncRNAtools_1.16.0.tar.gz PackageFileSize: 308.2 KiB