Package: ncdfFlow Version: 2.52.1 Command: rm -rf ncdfFlow.buildbin-libdir && mkdir ncdfFlow.buildbin-libdir && /Users/biocbuild/BBS/utils/build-universal.sh ncdfFlow_2.52.1.tar.gz /Library/Frameworks/R.framework/Resources/bin/R ncdfFlow.buildbin-libdir StartedAt: 2025-02-12 16:09:06 -0500 (Wed, 12 Feb 2025) EndedAt: 2025-02-12 16:09:25 -0500 (Wed, 12 Feb 2025) EllapsedTime: 19.2 seconds RetCode: 0 Status: OK PackageFile: ncdfFlow_2.52.1.tgz PackageFileSize: 1.76 MiB