Package: ncdfFlow Version: 2.52.1 Command: /Library/Frameworks/R.framework/Resources/bin/R CMD build --keep-empty-dirs --no-resave-data ncdfFlow StartedAt: 2025-02-03 20:49:09 -0500 (Mon, 03 Feb 2025) EndedAt: 2025-02-03 20:50:13 -0500 (Mon, 03 Feb 2025) EllapsedTime: 64.1 seconds RetCode: 0 Status: OK PackageFile: ncdfFlow_2.52.1.tar.gz PackageFileSize: 198.6 KiB