Package: ncdfFlow Version: 2.52.1 Command: /home/biocbuild/bbs-3.20-bioc/R/bin/R CMD build --keep-empty-dirs --no-resave-data --md5 ncdfFlow StartedAt: 2025-02-03 18:27:46 -0500 (Mon, 03 Feb 2025) EndedAt: 2025-02-03 18:28:10 -0500 (Mon, 03 Feb 2025) EllapsedTime: 24.0 seconds RetCode: 0 Status: OK PackageFile: ncdfFlow_2.52.1.tar.gz PackageFileSize: 200.1 KiB