Package: ncdfFlow Version: 2.52.1 Command: /home/biocbuild/bbs-3.20-bioc/R/bin/R CMD check --install=check:ncdfFlow.install-out.txt --library=/home/biocbuild/bbs-3.20-bioc/R/site-library --timings ncdfFlow_2.52.1.tar.gz StartedAt: 2025-02-11 00:28:29 -0500 (Tue, 11 Feb 2025) EndedAt: 2025-02-11 00:29:58 -0500 (Tue, 11 Feb 2025) EllapsedTime: 89.2 seconds RetCode: 0 Status: WARNINGS CheckDir: ncdfFlow.Rcheck Warnings: 3