Package: ndexr Version: 1.28.0 Command: /Library/Frameworks/R.framework/Resources/bin/R CMD build --keep-empty-dirs --no-resave-data ndexr StartedAt: 2025-02-04 04:36:13 -0500 (Tue, 04 Feb 2025) EndedAt: 2025-02-04 04:36:26 -0500 (Tue, 04 Feb 2025) EllapsedTime: 13.7 seconds RetCode: 0 Status: OK PackageFile: ndexr_1.28.0.tar.gz PackageFileSize: 947 KiB