Package: ndexr Version: 1.28.0 Command: /Library/Frameworks/R.framework/Resources/bin/R CMD INSTALL ndexr StartedAt: 2025-02-03 15:19:33 -0500 (Mon, 03 Feb 2025) EndedAt: 2025-02-03 15:19:53 -0500 (Mon, 03 Feb 2025) EllapsedTime: 19.8 seconds RetCode: 0 Status: OK